BEGIN:VCALENDAR
VERSION:2.0
PRODID:-//3nity.com//3nity CMS//EN
BEGIN:VEVENT
SUMMARY:Hope for Hearts & Homes / Love By The Book Women's Bible Study - Potluck 10:00 PM - 12:00 PM
UID:2026-07-18-1208427@nbbbf.org
SEQUENCE:0
STATUS:CONFIRMED
DTSTART:20260822T000000
DTEND:20260822T020000
DTSTAMP:20161222T120000
LOCATION: New Beginnings Believers Bible Fellowship, , ,  
DESCRIPTION:
URL:http://nbbbf.org
END:VEVENT
END:VCALENDAR
